BEGIN:VCALENDAR
VERSION:2.0
PRODID:-//Historic Bluffton Arts &amp; Seafood Festival - ECPv6.15.20//NONSGML v1.0//EN
CALSCALE:GREGORIAN
METHOD:PUBLISH
X-WR-CALNAME:Historic Bluffton Arts &amp; Seafood Festival
X-ORIGINAL-URL:https://blufftonartsandseafoodfestival.org
X-WR-CALDESC:Events for Historic Bluffton Arts &amp; Seafood Festival
REFRESH-INTERVAL;VALUE=DURATION:PT1H
X-Robots-Tag:noindex
X-PUBLISHED-TTL:PT1H
BEGIN:VTIMEZONE
TZID:America/New_York
BEGIN:DAYLIGHT
TZOFFSETFROM:-0500
TZOFFSETTO:-0400
TZNAME:EDT
DTSTART:20240310T070000
END:DAYLIGHT
BEGIN:STANDARD
TZOFFSETFROM:-0400
TZOFFSETTO:-0500
TZNAME:EST
DTSTART:20241103T060000
END:STANDARD
BEGIN:DAYLIGHT
TZOFFSETFROM:-0500
TZOFFSETTO:-0400
TZNAME:EDT
DTSTART:20250309T070000
END:DAYLIGHT
BEGIN:STANDARD
TZOFFSETFROM:-0400
TZOFFSETTO:-0500
TZNAME:EST
DTSTART:20251102T060000
END:STANDARD
BEGIN:DAYLIGHT
TZOFFSETFROM:-0500
TZOFFSETTO:-0400
TZNAME:EDT
DTSTART:20260308T070000
END:DAYLIGHT
BEGIN:STANDARD
TZOFFSETFROM:-0400
TZOFFSETTO:-0500
TZNAME:EST
DTSTART:20261101T060000
END:STANDARD
END:VTIMEZONE
BEGIN:VEVENT
DTSTART;TZID=America/New_York:20251019T100000
DTEND;TZID=America/New_York:20251019T160000
DTSTAMP:20260421T072505
CREATED:20240127T025739Z
LAST-MODIFIED:20250314T193041Z
UID:6714-1760868000-1760889600@blufftonartsandseafoodfestival.org
SUMMARY:Street Fest - Sunday
DESCRIPTION:10:00 am – 4:00 pm\nHISTORIC DISTRICT BLUFFTON FUN FOR THE ENTIRE FAMILY\nEnjoy our juried art show featuring over 100 local and regional artists from 10 different states\, displaying an array of fine art: oils\, pastels\, acrylics\, photography\, pottery\, ceramics\, water color and much\, much more. Local seafood and low country cuisine served by area restaurants.\nEnjoy the delicious seafood and view the outstanding art on the street. Take a break at the Tailgate area and catch up on your favorite team’s game while enjoying craft beer\, premium wine and music.\nMUSIC & ENTERTAINMENT\nFavorite bands will entertain on two stages throughout the day. \nThere will be no parking in downtown Bluffton on Saturday except for the Old Town Oyster Race & Run!
URL:https://blufftonartsandseafoodfestival.org/event/street-fest-sunday/
LOCATION:Calhoun St\, Old Town Bluffton\, 45 Calhoun St\, Bluffton\, SC\, 29910\, United States
CATEGORIES:Art,Entertainment,Food
ATTACH;FMTTYPE=image/jpeg:https://blufftonartsandseafoodfestival.org/wp-content/uploads/2024/10/woodpecker-on-sunflower-with-remarque-cropped.jpg
END:VEVENT
BEGIN:VEVENT
DTSTART;TZID=America/New_York:20251018T180000
DTEND;TZID=America/New_York:20251018T210000
DTSTAMP:20260421T072505
CREATED:20240127T025001Z
LAST-MODIFIED:20251013T175311Z
UID:6707-1760810400-1760821200@blufftonartsandseafoodfestival.org
SUMMARY:Rockin' on the Dock
DESCRIPTION:6:00 pm – Dusk\nBluffton Oyster Co. \n\nSeafood Extravaganza Tasting will now include delicious roasted local oysters – $20 bucket\nLive Music with J. EDWARDS BAND\nFireworks at dusk\nEnd the full day with a grand finale\nEat great local seafood and watch the fireworks for a night to remember!
URL:https://blufftonartsandseafoodfestival.org/event/rockin-on-the-dock/
LOCATION:Oyster Factory Park\, 63 Wharf St\, Bluffton\, SC\, 29910\, United States
CATEGORIES:Entertainment,Food
ATTACH;FMTTYPE=image/jpeg:https://blufftonartsandseafoodfestival.org/wp-content/uploads/2020/10/BASF_500x_festival30.jpg
END:VEVENT
BEGIN:VEVENT
DTSTART;TZID=America/New_York:20251018T100000
DTEND;TZID=America/New_York:20251018T170000
DTSTAMP:20260421T072505
CREATED:20240127T023007Z
LAST-MODIFIED:20250314T194619Z
UID:6699-1760781600-1760806800@blufftonartsandseafoodfestival.org
SUMMARY:Street Fest - Saturday
DESCRIPTION:10:00 am – 5:00 pm\nHISTORIC DISTRICT BLUFFTON FUN FOR THE ENTIRE FAMILY\nEnjoy our juried art show featuring over 100 local and regional artists from 10 different states\, displaying an array of fine art: oils\, pastels\, acrylics\, photography\, pottery\, ceramics\, water color and much\, much more. Local seafood and low country cuisine served by area restaurants.\nEnjoy the delicious seafood and view the outstanding art on the street. Take a break at the Tailgate area and catch up on your favorite team’s game while enjoying craft beer\, premium wine and music.\nMUSIC & ENTERTAINMENT\nFavorite bands will entertain on two stages throughout the day. \nThere will be no parking in downtown Bluffton on Saturday except for the Old Town Oyster Race & Run!
URL:https://blufftonartsandseafoodfestival.org/event/street-fest/
LOCATION:Calhoun St\, Old Town Bluffton\, 45 Calhoun St\, Bluffton\, SC\, 29910\, United States
CATEGORIES:Art,Entertainment,Food
ATTACH;FMTTYPE=image/jpeg:https://blufftonartsandseafoodfestival.org/wp-content/uploads/2020/10/BASF_500x_festival25.jpg
END:VEVENT
BEGIN:VEVENT
DTSTART;TZID=America/New_York:20251017T180000
DTEND;TZID=America/New_York:20251017T210000
DTSTAMP:20260421T072505
CREATED:20250915T145149Z
LAST-MODIFIED:20250929T175513Z
UID:8338-1760724000-1760734800@blufftonartsandseafoodfestival.org
SUMMARY:Ma Daisy's Porch Suppa\, Sips & Seafood
DESCRIPTION:“Suppa\, Sips and Seafood” 6-9 $125\n(wine included)/ticketed event capped at 125 tickets. Cashbar\, live music\, curated menu\, demonstrations from Bluffton Gullah Heritage Center and much much more.
URL:https://blufftonartsandseafoodfestival.org/event/ma-daisys-porch-suppa-sips-seafood/
LOCATION:Ma Daisy’s Porch\, 1255 May River Road\, Bluffton\, SC\, 29910
CATEGORIES:Food
ATTACH;FMTTYPE=image/png:https://blufftonartsandseafoodfestival.org/wp-content/uploads/2025/09/ma-daisys-porch-e1757950248703.png
END:VEVENT
BEGIN:VEVENT
DTSTART;TZID=America/New_York:20251017T170000
DTEND;TZID=America/New_York:20251017T220000
DTSTAMP:20260421T072505
CREATED:20240127T021243Z
LAST-MODIFIED:20250929T180514Z
UID:6688-1760720400-1760738400@blufftonartsandseafoodfestival.org
SUMMARY:Bluffton Self Help Sips & Seafood Party
DESCRIPTION:5:00 pm – 10:00 pm\nJoin us for a grand culinary celebration under the stars. The evening will include sensational Lowcountry dining\, savory cocktails\, along with contagious excitement with live and silent auctions as we raise money to support our Bluffton neighbors in need. Limited tickets and sponsorships are available and can be purchased online at sipsandseafood.com. All proceeds benefit Bluffton Self Help.\nVisit the Bluffton Self Help website here for tickets and more information. \nSOLD OUT
URL:https://blufftonartsandseafoodfestival.org/event/red-apron-sips-seafood-prelude-party-in-the-promenade/
LOCATION:SC
CATEGORIES:Food
ATTACH;FMTTYPE=image/jpeg:https://blufftonartsandseafoodfestival.org/wp-content/uploads/2024/01/sips-seafood-1.jpg
END:VEVENT
BEGIN:VEVENT
DTSTART;TZID=America/New_York:20251016T100000
DTEND;TZID=America/New_York:20251016T120000
DTSTAMP:20260421T072505
CREATED:20240127T015658Z
LAST-MODIFIED:20250314T195419Z
UID:6682-1760608800-1760616000@blufftonartsandseafoodfestival.org
SUMMARY:May River Oyster Farm Tour - Thursday
DESCRIPTION:10:00 am – 12:00 pm\nMeet at Public Dock at the end of Calhoun Street. \nCome enjoy a rare opportunity for an up-close-and-personal experience with May River Oyster Company’s pioneering oyster farm in collaboration with the Bluffton Seafood Festival and May River Excursions. This 2 hour in-depth tour brings you out to a working oyster farm where the farmers demonstrate the techniques and methods used to produce some of the best oysters in the world. Afterward enjoy lunch at Bluffton Seafood House in Historic Downtown Bluffton. Limited availability. $115.00 per person (includes lunch at Toomers Family Seafood Restaurant).\nCall 843-304-2878 to reserve or online here.
URL:https://blufftonartsandseafoodfestival.org/event/may-river-oyster-farm-tour-2/
LOCATION:Calhoun Street Public Dock\, 110 Calhoun St\, Bluffton\, SC\, 29910\, United States
CATEGORIES:Environmental,Food
ATTACH;FMTTYPE=image/jpeg:https://blufftonartsandseafoodfestival.org/wp-content/uploads/2020/10/food_featuredimage4.jpg
END:VEVENT
BEGIN:VEVENT
DTSTART;TZID=America/New_York:20251014T180000
DTEND;TZID=America/New_York:20251014T200000
DTSTAMP:20260421T072505
CREATED:20250922T164049Z
LAST-MODIFIED:20250929T181657Z
UID:8371-1760464800-1760472000@blufftonartsandseafoodfestival.org
SUMMARY:Okàn Dinner & Art Exhibit
DESCRIPTION:Arts & Seafood Week Dinner & Art Exhibit at Okan \nOctober 11–17\, 2025 | Bluffton\, SC \nCelebrate Bluffton’s Arts & Seafood Week with a unique fusion of culinary excellence and visual artistry at Okan Restaurant. Throughout the week\, guests will experience an intimate art exhibition by acclaimed Lowcountry artist Amiri Geuka Farris\, whose bold\, expressive works capture the spirit of the region’s culture\, waterways\, and community. \nSpecial Highlight\n• Tuesday\, October 14 – Dinner & Action Painting\nEnjoy a memorable evening of fine dining paired with live art. During the dinner\, Amiri Farris will perform an action painting\, creating a dynamic large-scale work in real time\, inspired by the rhythms\, flavors\, and atmosphere of Okan.\nGuests will also receive exclusive one-of-a-kind artistic takeaways from this special night\, making the experience unforgettable. \nThe exhibit will remain on view October 11–17\, 2025\, offering visitors a chance to dine at Okan while surrounded by the vibrant colors and textures of Amiri’s art. \nDinner $140 per person\nWe will have live music as well \nAnd a wine rep to talk about each course of wine \nFrom 6pm to 8pm\nTickets HERE \nSeafood Fest Wine dinner menu\nAmuse – Oyster two ways\, Baked – callaloo\, smoked hock – Raw – oysters\, coconut mignonette\, shallot\n1st course – Shrimp vichyssoise\, potato\, leek\, cornbread\n2nd course – Lobster Ochoa\, hibiscus custard\, corn\, pumpkin\, roe\n3rd course – Palm Oil Octopus\, garlic\, grits\, green tomato\, peanut\nFinish – Benne tuile\, Lemon curd\, Meringue\, berries
URL:https://blufftonartsandseafoodfestival.org/event/okan-dinner-art-exhibit/
LOCATION:Okàn\, 71 Calhoun Street\, Bluffton\, SC\, 29910
CATEGORIES:Art,Food
END:VEVENT
BEGIN:VEVENT
DTSTART;TZID=America/New_York:20251014T100000
DTEND;TZID=America/New_York:20251014T120000
DTSTAMP:20260421T072505
CREATED:20240127T013703Z
LAST-MODIFIED:20250314T200222Z
UID:6678-1760436000-1760443200@blufftonartsandseafoodfestival.org
SUMMARY:May River Oyster Farm Tour with May River Excursions- Tuesday
DESCRIPTION:10:00 am – 12:00 pm\nMeet at Public Dock at the end of Calhoun Street. \nCome enjoy a rare opportunity for an up-close-and-personal experience with May River Oyster Company’s pioneering oyster farm in collaboration with the Bluffton Seafood Festival and May River Excursions. This 2 hour in-depth tour brings you out to a working oyster farm where the farmers demonstrate the techniques and methods used to produce some of the best oysters in the world. Afterward enjoy lunch at Bluffton Seafood House in Historic Downtown Bluffton. Limited availability. $115.00 per person (includes lunch at Toomers Family Seafood Restaurant).\nCall 843-304-2878 to reserve or online here.
URL:https://blufftonartsandseafoodfestival.org/event/may-river-oyster-farm-tour/
LOCATION:Calhoun Street Public Dock\, 110 Calhoun St\, Bluffton\, SC\, 29910\, United States
CATEGORIES:Environmental,Food
ATTACH;FMTTYPE=image/jpeg:https://blufftonartsandseafoodfestival.org/wp-content/uploads/2020/10/food_featuredimage4.jpg
END:VEVENT
BEGIN:VEVENT
DTSTART;TZID=America/New_York:20251013T170000
DTEND;TZID=America/New_York:20251013T180000
DTSTAMP:20260421T072505
CREATED:20240127T005729Z
LAST-MODIFIED:20250811T194449Z
UID:6665-1760374800-1760378400@blufftonartsandseafoodfestival.org
SUMMARY:Dinner & Learn Cherish our Waterways
DESCRIPTION:TOUR OF WADDELL MARICULTURE CENTER\nTours available at 5:00PM\, 5:30PM\n21 Sawmill Creek Road\, Bluffton. Only closed toe shoes.\nReservations required. $45/per person. Proceeds to Waddell Mariculture Center. To make your reservation: blufftonartsandseafoodfestival.org\nTour the Waddell Mariculture Center\, view the updated facilities\, and learn from Director Erin Levesque how important this research facility is to our area and our resources. The tours will be given at two times\, 5:00PM and 5:30PM followed by dinner at Toomers Bluffton Seafood Restaurant\, 27 Mellichamp Drive\, Historic Downtown Bluffton. The dinner buffet includes Gumbo 2 Ways (chicken and seafood)\, Caesar salad\, cornbread\, cookies and tea. Beer\, wine and cocktails will be available for purchase. During dinner a presentation will be given concerning preservation of our natural resources.\nPurchase your tickets here.
URL:https://blufftonartsandseafoodfestival.org/event/dinner-learn/
LOCATION:Waddell Mariculture Center\, 211 Sawmill Creek Rd\, Bluffton\, SC\, 29910\, United States
CATEGORIES:Environmental,Food
ATTACH;FMTTYPE=image/png:https://blufftonartsandseafoodfestival.org/wp-content/uploads/2024/01/Waddell-Mariculture-Center.png
END:VEVENT
BEGIN:VEVENT
DTSTART;TZID=America/New_York:20251012T170000
DTEND;TZID=America/New_York:20251012T200000
DTSTAMP:20260421T072505
CREATED:20240123T223006Z
LAST-MODIFIED:20251012T171605Z
UID:6642-1760288400-1760299200@blufftonartsandseafoodfestival.org
SUMMARY:Oyster Fest
DESCRIPTION:***POSTPONED DUE TO INCLEMENT WEATHER. MORE DETAILS TO FOLLOW*** \n5:00 PM – 8:00 PM\nBluffton Oyster Factory Park\nFirst Oyster Roast of the Season ($20 for a bucket of oysters)\, Shrimp Boil & BBQ\, Live Music by CROSSTOWN TRAFFIC.
URL:https://blufftonartsandseafoodfestival.org/event/oyster-fest/
LOCATION:Oyster Factory Park\, 63 Wharf St\, Bluffton\, SC\, 29910\, United States
CATEGORIES:Food
ATTACH;FMTTYPE=image/jpeg:https://blufftonartsandseafoodfestival.org/wp-content/uploads/2023/08/crosstown-traffic.jpg
END:VEVENT
BEGIN:VEVENT
DTSTART;TZID=America/New_York:20251011T180000
DTEND;TZID=America/New_York:20251011T180000
DTSTAMP:20260421T072505
CREATED:20230829T061906Z
LAST-MODIFIED:20251027T212038Z
UID:6279-1760205600-1760205600@blufftonartsandseafoodfestival.org
SUMMARY:Bluffton State of Mind Supper Soirée
DESCRIPTION:NOTE VENUE CHANGE DUE TO WEATHER! \nRotary Community Center\, 11 Recreation Court\, Bluffton \nEat in the street 4 Course Dinner with music & wine – served in the center of Historic Calhoun Street highlighting some of our local chefs.\nCome enjoy a night under the stars!\n$150 per person; limited to 120 attendees.\nBuy your tickets here. Tickets available September 1\, 2025 at 9:00 AM. No physical ticket is provided. Save your receipt to your phone. \nSOLD OUT
URL:https://blufftonartsandseafoodfestival.org/event/supper-soiree/
LOCATION:CHANGE: Rotary Community Center\, 11 Recreation Ct\, Bluffton\, SC\, 29910\, United States
CATEGORIES:Entertainment,Food
ATTACH;FMTTYPE=image/jpeg:https://blufftonartsandseafoodfestival.org/wp-content/uploads/2020/10/food_featuredimage5.jpg
END:VEVENT
BEGIN:VEVENT
DTSTART;TZID=America/New_York:20251010T170000
DTEND;TZID=America/New_York:20251010T170000
DTSTAMP:20260421T072505
CREATED:20250811T190101Z
LAST-MODIFIED:20250929T175417Z
UID:8005-1760115600-1760115600@blufftonartsandseafoodfestival.org
SUMMARY:May River Ducks Unlimited Fall Frenzy
DESCRIPTION:Join the May River Ducks Unlimited Chapter at our Annual Fall Frenzy Event. Tickets include entry into event\, beverages and dinner. We will have raffles and a live auction as we raise money for Wetlands and Waterfowl Conservation.
URL:https://blufftonartsandseafoodfestival.org/event/may-river-ducks-unlimited-fall-frenzy/
LOCATION:Martin Family Park\, 68 Boundary St\, Bluffton\, SC\, 29910\, United States
CATEGORIES:Environmental,Food
ATTACH;FMTTYPE=image/png:https://blufftonartsandseafoodfestival.org/wp-content/uploads/2025/08/may-river-ducks-e1757953624557.png
END:VEVENT
END:VCALENDAR